BEGIN:VCALENDAR
VERSION:2.0
PRODID:-//jEvents 2.0 for Joomla//EN
CALSCALE:GREGORIAN
METHOD:PUBLISH
BEGIN:VTIMEZONE
TZID:Europe/Berlin
BEGIN:STANDARD
DTSTART:20250102T180000
RDATE:20250330T030000
TZOFFSETFROM:+0200
TZOFFSETTO:+0100
TZNAME:Europe/Berlin CET
END:STANDARD
BEGIN:STANDARD
DTSTART:20251026T020000
RDATE:20260329T030000
TZOFFSETFROM:+0200
TZOFFSETTO:+0100
TZNAME:Europe/Berlin CET
END:STANDARD
BEGIN:STANDARD
DTSTART:20261025T020000
RDATE:20270328T030000
TZOFFSETFROM:+0200
TZOFFSETTO:+0100
TZNAME:Europe/Berlin CET
END:STANDARD
BEGIN:STANDARD
DTSTART:20271031T020000
RDATE:20280326T030000
TZOFFSETFROM:+0200
TZOFFSETTO:+0100
TZNAME:Europe/Berlin CET
END:STANDARD
BEGIN:STANDARD
DTSTART:20281029T020000
RDATE:20290325T030000
TZOFFSETFROM:+0200
TZOFFSETTO:+0100
TZNAME:Europe/Berlin CET
END:STANDARD
BEGIN:DAYLIGHT
DTSTART:20250330T030000
RDATE:20251026T020000
TZOFFSETFROM:+0100
TZOFFSETTO:+0200
TZNAME:Europe/Berlin CEST
END:DAYLIGHT
BEGIN:DAYLIGHT
DTSTART:20260329T030000
RDATE:20261025T020000
TZOFFSETFROM:+0100
TZOFFSETTO:+0200
TZNAME:Europe/Berlin CEST
END:DAYLIGHT
BEGIN:DAYLIGHT
DTSTART:20270328T030000
RDATE:20271031T020000
TZOFFSETFROM:+0100
TZOFFSETTO:+0200
TZNAME:Europe/Berlin CEST
END:DAYLIGHT
BEGIN:DAYLIGHT
DTSTART:20280326T030000
RDATE:20281029T020000
TZOFFSETFROM:+0100
TZOFFSETTO:+0200
TZNAME:Europe/Berlin CEST
END:DAYLIGHT
END:VTIMEZONE
BEGIN:VEVENT
UID:9f9bc9b4c00c088a6f7fc20f25fd40a7
CATEGORIES:Gottesdienste und Veranstaltungen
CREATED:20251116T145222
SUMMARY:Die Gemeinde // Gebetswoche 2026 [LIVEstream]
LOCATION: im Saal der Ev. Freikirche in Heidenoldendorf\, Adolf-Meier-Str. 36\, 3275
 8 Detmold
URL;VALUE=URI:https://www.freikirche-hd.de/index.php/events/Eventdetail/7706/-/die-gemein
 de-gebetswoche-2026-livestream?tmpl=component
DESCRIPTION:Gebetswoche 2026\n Dieser Event wurde importiert von: https://www.freikirch
 e-hd.de/index.php/events/Eventdetail/7706/-/die-gemeinde-gebetswoche-2026-l
 ivestream?tmpl=component (https://www.freikirche-hd.de/index.php/events/Eve
 ntdetail/7706/-/die-gemeinde-gebetswoche-2026-livestream?tmpl=component)
X-ALT-DESC;FMTTYPE=text/html:<p>Gebetswoche 2026</p> <a href="https://www.freikirche-hd.de/index.php/eve
 nts/Eventdetail/7706/-/die-gemeinde-gebetswoche-2026-livestream?tmpl=compon
 ent">Dieser Event wurde importiert von: https://www.freikirche-hd.de/index.
 php/events/Eventdetail/7706/-/die-gemeinde-gebetswoche-2026-livestream?tmpl
 =component</a>DTSTAMP:20260420T023905
DTSTART;TZID=Europe/Berlin:20260103T180000
DTEND;TZID=Europe/Berlin:20260103T193000
SEQUENCE:0
RRULE:FREQ=DAILY;UNTIL=20260108T000000Z;INTERVAL=1
EXDATE;TZID=Europe/Berlin:20260104T180000
TRANSP:OPAQUE
END:VEVENT
BEGIN:VEVENT
UID:9f9bc9b4c00c088a6f7fc20f25fd40a7
CATEGORIES:Gottesdienste und Veranstaltungen
CREATED:20251116T145222
SUMMARY:Rückblick // Gebetswoche 2026 [LIVEstream]
LOCATION: im Saal der Ev. Freikirche in Heidenoldendorf, Adolf-Meier-Str. 36, 32758 
 Detmold
DESCRIPTION:Gebetswoche 2026\n
X-ALT-DESC;FMTTYPE=text/html:<p>Gebetswoche 2026</p>
URL;VALUE=URI:https://www.freikirche-hd.de/index.php/events/Eventdetail/7704/-/rueckblick
 -gebetswoche-2026-livestream?tmpl=component

DTSTAMP:20260420T023905
DTSTART;TZID=Europe/Berlin:20260101T180000
DTEND;TZID=Europe/Berlin:20260101T193000
RECURRENCE-ID;TZID=Europe/Berlin:20260101T180000
SEQUENCE:0
TRANSP:OPAQUE
END:VEVENT
BEGIN:VEVENT
UID:9f9bc9b4c00c088a6f7fc20f25fd40a7
CATEGORIES:Gottesdienste und Veranstaltungen
CREATED:20251116T145222
SUMMARY:Die Bibel // Gebetswoche 2026 [LIVEstream]
LOCATION: im Saal der Ev. Freikirche in Heidenoldendorf, Adolf-Meier-Str. 36, 32758 
 Detmold
DESCRIPTION:Gebetswoche 2026\n
X-ALT-DESC;FMTTYPE=text/html:<p>Gebetswoche 2026</p>
URL;VALUE=URI:https://www.freikirche-hd.de/index.php/events/Eventdetail/7705/-/die-bibel-
 gebetswoche-2026-livestream?tmpl=component

DTSTAMP:20260420T023905
DTSTART;TZID=Europe/Berlin:20260102T180000
DTEND;TZID=Europe/Berlin:20260102T193000
RECURRENCE-ID;TZID=Europe/Berlin:20260102T180000
SEQUENCE:0
TRANSP:OPAQUE
END:VEVENT
BEGIN:VEVENT
UID:9f9bc9b4c00c088a6f7fc20f25fd40a7
CATEGORIES:Gottesdienste und Veranstaltungen
CREATED:20251116T145222
SUMMARY:Die Gemeinde // Gebetswoche 2026 [LIVEstream]
LOCATION: im Saal der Ev. Freikirche in Heidenoldendorf, Adolf-Meier-Str. 36, 32758 
 Detmold
DESCRIPTION:Gebetswoche 2026\n
X-ALT-DESC;FMTTYPE=text/html:<p>Gebetswoche 2026</p>
URL;VALUE=URI:https://www.freikirche-hd.de/index.php/events/Eventdetail/7706/-/die-gemein
 de-gebetswoche-2026-livestream?tmpl=component

DTSTAMP:20260420T023905
DTSTART;TZID=Europe/Berlin:20260103T180000
DTEND;TZID=Europe/Berlin:20260103T193000
RECURRENCE-ID;TZID=Europe/Berlin:20260103T180000
SEQUENCE:0
TRANSP:OPAQUE
END:VEVENT
BEGIN:VEVENT
UID:9f9bc9b4c00c088a6f7fc20f25fd40a7
CATEGORIES:Gottesdienste und Veranstaltungen
CREATED:20251116T145222
SUMMARY:Unser Land // Gebetswoche 2026 [LIVEstream]
LOCATION: im Saal der Ev. Freikirche in Heidenoldendorf, Adolf-Meier-Str. 36, 32758 
 Detmold
DESCRIPTION:Gebetswoche 2026\n
X-ALT-DESC;FMTTYPE=text/html:<p>Gebetswoche 2026</p>
URL;VALUE=URI:https://www.freikirche-hd.de/index.php/events/Eventdetail/7708/-/unser-land
 -gebetswoche-2026-livestream?tmpl=component

DTSTAMP:20260420T023905
DTSTART;TZID=Europe/Berlin:20260105T180000
DTEND;TZID=Europe/Berlin:20260105T193000
RECURRENCE-ID;TZID=Europe/Berlin:20260105T180000
SEQUENCE:0
TRANSP:OPAQUE
END:VEVENT
BEGIN:VEVENT
UID:9f9bc9b4c00c088a6f7fc20f25fd40a7
CATEGORIES:Gottesdienste und Veranstaltungen
CREATED:20251116T145222
SUMMARY:Mission und Evangelisation // Gebetswoche 2026 [LIVEstream]
LOCATION: im Saal der Ev. Freikirche in Heidenoldendorf, Adolf-Meier-Str. 36, 32758 
 Detmold
DESCRIPTION:Gebetswoche 2026\n
X-ALT-DESC;FMTTYPE=text/html:<p>Gebetswoche 2026</p>
URL;VALUE=URI:https://www.freikirche-hd.de/index.php/events/Eventdetail/7709/-/mission-un
 d-evangelisation-gebetswoche-2026-livestream?tmpl=component

DTSTAMP:20260420T023905
DTSTART;TZID=Europe/Berlin:20260106T180000
DTEND;TZID=Europe/Berlin:20260106T193000
RECURRENCE-ID;TZID=Europe/Berlin:20260106T180000
SEQUENCE:0
TRANSP:OPAQUE
END:VEVENT
BEGIN:VEVENT
UID:9f9bc9b4c00c088a6f7fc20f25fd40a7
CATEGORIES:Gottesdienste und Veranstaltungen
CREATED:20251116T145222
SUMMARY:Wiederkunft Jesu // Gebetswoche 2026 [LIVEstream]
LOCATION: im Saal der Ev. Freikirche in Heidenoldendorf, Adolf-Meier-Str. 36, 32758 
 Detmold
DESCRIPTION:Gebetswoche 2026\n
X-ALT-DESC;FMTTYPE=text/html:<p>Gebetswoche 2026</p>
URL;VALUE=URI:https://www.freikirche-hd.de/index.php/events/Eventdetail/7710/-/wiederkunf
 t-jesu-gebetswoche-2026-livestream?tmpl=component

DTSTAMP:20260420T023905
DTSTART;TZID=Europe/Berlin:20260107T180000
DTEND;TZID=Europe/Berlin:20260107T193000
RECURRENCE-ID;TZID=Europe/Berlin:20260107T180000
SEQUENCE:0
TRANSP:OPAQUE
END:VEVENT
END:VCALENDAR