BEGIN:VCALENDAR
VERSION:2.0
PRODID:-//jEvents 2.0 for Joomla//EN
CALSCALE:GREGORIAN
METHOD:PUBLISH
BEGIN:VTIMEZONE
TZID:Europe/Berlin
BEGIN:STANDARD
DTSTART:20250312T170000
RDATE:20250330T030000
TZOFFSETFROM:+0200
TZOFFSETTO:+0100
TZNAME:Europe/Berlin CET
END:STANDARD
BEGIN:STANDARD
DTSTART:20251026T020000
RDATE:20260329T030000
TZOFFSETFROM:+0200
TZOFFSETTO:+0100
TZNAME:Europe/Berlin CET
END:STANDARD
BEGIN:STANDARD
DTSTART:20261025T020000
RDATE:20270328T030000
TZOFFSETFROM:+0200
TZOFFSETTO:+0100
TZNAME:Europe/Berlin CET
END:STANDARD
BEGIN:STANDARD
DTSTART:20271031T020000
RDATE:20280326T030000
TZOFFSETFROM:+0200
TZOFFSETTO:+0100
TZNAME:Europe/Berlin CET
END:STANDARD
BEGIN:STANDARD
DTSTART:20281029T020000
RDATE:20290325T030000
TZOFFSETFROM:+0200
TZOFFSETTO:+0100
TZNAME:Europe/Berlin CET
END:STANDARD
BEGIN:DAYLIGHT
DTSTART:20250330T030000
RDATE:20251026T020000
TZOFFSETFROM:+0100
TZOFFSETTO:+0200
TZNAME:Europe/Berlin CEST
END:DAYLIGHT
BEGIN:DAYLIGHT
DTSTART:20260329T030000
RDATE:20261025T020000
TZOFFSETFROM:+0100
TZOFFSETTO:+0200
TZNAME:Europe/Berlin CEST
END:DAYLIGHT
BEGIN:DAYLIGHT
DTSTART:20270328T030000
RDATE:20271031T020000
TZOFFSETFROM:+0100
TZOFFSETTO:+0200
TZNAME:Europe/Berlin CEST
END:DAYLIGHT
BEGIN:DAYLIGHT
DTSTART:20280326T030000
RDATE:20281029T020000
TZOFFSETFROM:+0100
TZOFFSETTO:+0200
TZNAME:Europe/Berlin CEST
END:DAYLIGHT
END:VTIMEZONE
BEGIN:VEVENT
UID:92eb2449b771b81ea354d144123cfdcf
CATEGORIES:Teeniechor
CREATED:20250824T202831
SUMMARY:Teeniechor
LOCATION:Ev. Freikirche in Heidenoldendorf\, Adolf-Meier-Str. 36\, 32758 Detmold
URL;VALUE=URI:https://www.freikirche-hd.de/index.php/events/Eventdetail/7674/-/teeniechor
 ?tmpl=component
DESCRIPTION:<p>Teeniechor-Probestunde, mehr Informationen <a href="index.php/teeniechor
 ">hier</a>.</p> <a href="https://www.freikirche-hd.de/index.php/events/Even
 tdetail/7674/-/teeniechor?tmpl=component">Dieser Event wurde importiert von
 : https://www.freikirche-hd.de/index.php/events/Eventdetail/7674/-/teeniech
 or?tmpl=component</a>
X-ALT-DESC;FMTTYPE=text/html:<p>Teeniechor-Probestunde, mehr Informationen <a href="https://www.freikirc
 he-hd.de/index.php/teeniechor">hier</a>.</p> <a href="https://www.freikirch
 e-hd.de/index.php/events/Eventdetail/7674/-/teeniechor?tmpl=component">Dies
 er Event wurde importiert von: https://www.freikirche-hd.de/index.php/event
 s/Eventdetail/7674/-/teeniechor?tmpl=component</a>DTSTAMP:20260419T230428
DTSTART;TZID=Europe/Berlin:20260313T170000
DTEND;TZID=Europe/Berlin:20260313T183000
SEQUENCE:0
TRANSP:OPAQUE
END:VEVENT
END:VCALENDAR