BEGIN:VCALENDAR
VERSION:2.0
PRODID:-//jEvents 2.0 for Joomla//EN
CALSCALE:GREGORIAN
METHOD:PUBLISH
BEGIN:VTIMEZONE
TZID:Europe/Berlin
BEGIN:STANDARD
DTSTART:20250204T170000
RDATE:20250330T030000
TZOFFSETFROM:+0200
TZOFFSETTO:+0100
TZNAME:Europe/Berlin CET
END:STANDARD
BEGIN:STANDARD
DTSTART:20251026T020000
RDATE:20260329T030000
TZOFFSETFROM:+0200
TZOFFSETTO:+0100
TZNAME:Europe/Berlin CET
END:STANDARD
BEGIN:STANDARD
DTSTART:20261025T020000
RDATE:20270328T030000
TZOFFSETFROM:+0200
TZOFFSETTO:+0100
TZNAME:Europe/Berlin CET
END:STANDARD
BEGIN:STANDARD
DTSTART:20271031T020000
RDATE:20280326T030000
TZOFFSETFROM:+0200
TZOFFSETTO:+0100
TZNAME:Europe/Berlin CET
END:STANDARD
BEGIN:STANDARD
DTSTART:20281029T020000
RDATE:20290325T030000
TZOFFSETFROM:+0200
TZOFFSETTO:+0100
TZNAME:Europe/Berlin CET
END:STANDARD
BEGIN:DAYLIGHT
DTSTART:20250330T030000
RDATE:20251026T020000
TZOFFSETFROM:+0100
TZOFFSETTO:+0200
TZNAME:Europe/Berlin CEST
END:DAYLIGHT
BEGIN:DAYLIGHT
DTSTART:20260329T030000
RDATE:20261025T020000
TZOFFSETFROM:+0100
TZOFFSETTO:+0200
TZNAME:Europe/Berlin CEST
END:DAYLIGHT
BEGIN:DAYLIGHT
DTSTART:20270328T030000
RDATE:20271031T020000
TZOFFSETFROM:+0100
TZOFFSETTO:+0200
TZNAME:Europe/Berlin CEST
END:DAYLIGHT
BEGIN:DAYLIGHT
DTSTART:20280326T030000
RDATE:20281029T020000
TZOFFSETFROM:+0100
TZOFFSETTO:+0200
TZNAME:Europe/Berlin CEST
END:DAYLIGHT
END:VTIMEZONE
BEGIN:VEVENT
UID:01d4da6119ecc49824a70ec29aea6d77
CATEGORIES:Kinderchor
CREATED:20250824T202659
SUMMARY:Kinderchor
LOCATION:Ev. Freikirche in Heidenoldendorf\, Adolf-Meier-Str. 36\, 32758 Detmold
URL;VALUE=URI:https://www.freikirche-hd.de/index.php/events/Eventdetail/7575/-/kinderchor
 ?tmpl=component
DESCRIPTION:Probe für den Kinderchor, mehr Informationen hier (index.php/kinderchor).\n
  Dieser Event wurde importiert von: https://www.freikirche-hd.de/index.php/
 events/Eventdetail/7575/-/kinderchor?tmpl=component (https://www.freikirche
 -hd.de/index.php/events/Eventdetail/7575/-/kinderchor?tmpl=component)
X-ALT-DESC;FMTTYPE=text/html:<p>Probe für den Kinderchor, mehr Informationen <a href="https://www.freiki
 rche-hd.de/index.php/kinderchor">hier</a>.</p> <a href="https://www.freikir
 che-hd.de/index.php/events/Eventdetail/7575/-/kinderchor?tmpl=component">Di
 eser Event wurde importiert von: https://www.freikirche-hd.de/index.php/eve
 nts/Eventdetail/7575/-/kinderchor?tmpl=component</a>DTSTAMP:20260420T022656
DTSTART;TZID=Europe/Berlin:20260205T170000
DTEND;TZID=Europe/Berlin:20260205T180000
SEQUENCE:0
TRANSP:OPAQUE
END:VEVENT
END:VCALENDAR