BEGIN:VCALENDAR
VERSION:2.0
PRODID:-//jEvents 2.0 for Joomla//EN
CALSCALE:GREGORIAN
METHOD:PUBLISH
BEGIN:VTIMEZONE
TZID:Europe/Berlin
BEGIN:STANDARD
DTSTART:20251026T020000
RDATE:20260329T030000
TZOFFSETFROM:+0200
TZOFFSETTO:+0100
TZNAME:Europe/Berlin CET
END:STANDARD
BEGIN:STANDARD
DTSTART:20261025T020000
RDATE:20270328T030000
TZOFFSETFROM:+0200
TZOFFSETTO:+0100
TZNAME:Europe/Berlin CET
END:STANDARD
BEGIN:STANDARD
DTSTART:20271031T020000
RDATE:20280326T030000
TZOFFSETFROM:+0200
TZOFFSETTO:+0100
TZNAME:Europe/Berlin CET
END:STANDARD
BEGIN:STANDARD
DTSTART:20281029T020000
RDATE:20290325T030000
TZOFFSETFROM:+0200
TZOFFSETTO:+0100
TZNAME:Europe/Berlin CET
END:STANDARD
BEGIN:DAYLIGHT
DTSTART:20250425T160000
RDATE:20251026T020000
TZOFFSETFROM:+0100
TZOFFSETTO:+0200
TZNAME:Europe/Berlin CEST
END:DAYLIGHT
BEGIN:DAYLIGHT
DTSTART:20260329T030000
RDATE:20261025T020000
TZOFFSETFROM:+0100
TZOFFSETTO:+0200
TZNAME:Europe/Berlin CEST
END:DAYLIGHT
BEGIN:DAYLIGHT
DTSTART:20270328T030000
RDATE:20271031T020000
TZOFFSETFROM:+0100
TZOFFSETTO:+0200
TZNAME:Europe/Berlin CEST
END:DAYLIGHT
BEGIN:DAYLIGHT
DTSTART:20280326T030000
RDATE:20281029T020000
TZOFFSETFROM:+0100
TZOFFSETTO:+0200
TZNAME:Europe/Berlin CEST
END:DAYLIGHT
END:VTIMEZONE
BEGIN:VEVENT
UID:bcbeccd38c12712783155d16abd50480
CATEGORIES:Gottesdienste und Veranstaltungen
CREATED:20250706T132829
SUMMARY:Gemeindestunde mit Abendmahlsfeier
LOCATION: im Saal der Ev. Freikirche in Heidenoldendorf\, Adolf-Meier-Str. 36\, 3275
 8 Detmold
URL;VALUE=URI:https://www.freikirche-hd.de/index.php/events/Eventdetail/7391/-/gemeindest
 unde-mit-abendmahlsfeier?tmpl=component
DESCRIPTION:Gemeindestunde für die Mitglieder der Gemeinde.\n Dieser Event wurde import
 iert von: https://www.freikirche-hd.de/index.php/events/Eventdetail/7391/-/
 gemeindestunde-mit-abendmahlsfeier?tmpl=component
X-ALT-DESC;FMTTYPE=text/html:<p>Gemeindestunde für die Mitglieder der Gemeinde.</p> <a href="https://www
 .freikirche-hd.de/index.php/events/Eventdetail/7391/-/gemeindestunde-mit-ab
 endmahlsfeier?tmpl=component">Dieser Event wurde importiert von: https://ww
 w.freikirche-hd.de/index.php/events/Eventdetail/7391/-/gemeindestunde-mit-a
 bendmahlsfeier?tmpl=component</a>DTSTAMP:20260420T062348
DTSTART;TZID=Europe/Berlin:20260405T160000
DTEND;TZID=Europe/Berlin:20260405T180000
SEQUENCE:0
RRULE:FREQ=MONTHLY;COUNT=11;INTERVAL=1;BYDAY=+1SU
EXDATE;TZID=Europe/Berlin:20260104T160000,20260503T160000
TRANSP:OPAQUE
END:VEVENT
BEGIN:VEVENT
UID:bcbeccd38c12712783155d16abd50480
CATEGORIES:Gottesdienste und Veranstaltungen
CREATED:20250706T132829
SUMMARY:Gemeindestunde mit Abendmahlsfeier
LOCATION: im Saal der Ev. Freikirche in Heidenoldendorf, Adolf-Meier-Str. 36, 32758 
 Detmold
DESCRIPTION:Gemeindestunde für die Mitglieder der Gemeinde.\n
X-ALT-DESC;FMTTYPE=text/html:<p>Gemeindestunde für die Mitglieder der Gemeinde.</p>
URL;VALUE=URI:https://www.freikirche-hd.de/index.php/events/Eventdetail/7385/-/gemeindest
 unde-mit-abendmahlsfeier?tmpl=component

DTSTAMP:20260420T062348
DTSTART;TZID=Europe/Berlin:20250928T160000
DTEND;TZID=Europe/Berlin:20250928T180000
RECURRENCE-ID;TZID=Europe/Berlin:20251005T160000
SEQUENCE:0
TRANSP:OPAQUE
END:VEVENT
BEGIN:VEVENT
UID:bcbeccd38c12712783155d16abd50480
CATEGORIES:Gottesdienste und Veranstaltungen
CREATED:20250706T132829
SUMMARY:Gemeindestunde mit Abendmahlsfeier
LOCATION: im Saal der Ev. Freikirche in Heidenoldendorf, Adolf-Meier-Str. 36, 32758 
 Detmold
DESCRIPTION:Gemeindestunde für die Mitglieder der Gemeinde.\n
X-ALT-DESC;FMTTYPE=text/html:<p>Gemeindestunde für die Mitglieder der Gemeinde.</p>
URL;VALUE=URI:https://www.freikirche-hd.de/index.php/events/Eventdetail/7391/-/gemeindest
 unde-mit-abendmahlsfeier?tmpl=component

DTSTAMP:20260420T062348
DTSTART;TZID=Europe/Berlin:20260426T160000
DTEND;TZID=Europe/Berlin:20260426T180000
RECURRENCE-ID;TZID=Europe/Berlin:20260405T160000
SEQUENCE:0
TRANSP:OPAQUE
END:VEVENT
END:VCALENDAR