BEGIN:VCALENDAR
VERSION:2.0
PRODID:-//jEvents 2.0 for Joomla//EN
CALSCALE:GREGORIAN
METHOD:PUBLISH
BEGIN:VTIMEZONE
TZID:Europe/Berlin
BEGIN:STANDARD
DTSTART:20250120T180000
RDATE:20250330T030000
TZOFFSETFROM:+0200
TZOFFSETTO:+0100
TZNAME:Europe/Berlin CET
END:STANDARD
BEGIN:STANDARD
DTSTART:20251026T020000
RDATE:20260329T030000
TZOFFSETFROM:+0200
TZOFFSETTO:+0100
TZNAME:Europe/Berlin CET
END:STANDARD
BEGIN:STANDARD
DTSTART:20261025T020000
RDATE:20270328T030000
TZOFFSETFROM:+0200
TZOFFSETTO:+0100
TZNAME:Europe/Berlin CET
END:STANDARD
BEGIN:STANDARD
DTSTART:20271031T020000
RDATE:20280326T030000
TZOFFSETFROM:+0200
TZOFFSETTO:+0100
TZNAME:Europe/Berlin CET
END:STANDARD
BEGIN:STANDARD
DTSTART:20281029T020000
RDATE:20290325T030000
TZOFFSETFROM:+0200
TZOFFSETTO:+0100
TZNAME:Europe/Berlin CET
END:STANDARD
BEGIN:DAYLIGHT
DTSTART:20250330T030000
RDATE:20251026T020000
TZOFFSETFROM:+0100
TZOFFSETTO:+0200
TZNAME:Europe/Berlin CEST
END:DAYLIGHT
BEGIN:DAYLIGHT
DTSTART:20260329T030000
RDATE:20261025T020000
TZOFFSETFROM:+0100
TZOFFSETTO:+0200
TZNAME:Europe/Berlin CEST
END:DAYLIGHT
BEGIN:DAYLIGHT
DTSTART:20270328T030000
RDATE:20271031T020000
TZOFFSETFROM:+0100
TZOFFSETTO:+0200
TZNAME:Europe/Berlin CEST
END:DAYLIGHT
BEGIN:DAYLIGHT
DTSTART:20280326T030000
RDATE:20281029T020000
TZOFFSETFROM:+0100
TZOFFSETTO:+0200
TZNAME:Europe/Berlin CEST
END:DAYLIGHT
END:VTIMEZONE
BEGIN:VEVENT
UID:465785d1514e6ccb5756d2cb00323dba
CATEGORIES:Gottesdienste und Veranstaltungen
CREATED:20250706T132402
SUMMARY:Bibelbetrachtung und Gebet [LIVEstream]
LOCATION: im Saal der Ev. Freikirche in Heidenoldendorf\, Adolf-Meier-Str. 36\, 3275
 8 Detmold
URL;VALUE=URI:https://www.freikirche-hd.de/index.php/events/Eventdetail/7206/-/bibelbetra
 chtung-und-gebet-livestream?tmpl=component
DESCRIPTION:Fortlaufende Bibelbetrachtung mit Gebet.\n Dieser Event wurde importiert vo
 n: https://www.freikirche-hd.de/index.php/events/Eventdetail/7206/-/bibelbe
 trachtung-und-gebet-livestream?tmpl=component (https://www.freikirche-hd.de
 /index.php/events/Eventdetail/7206/-/bibelbetrachtung-und-gebet-livestream?
 tmpl=component)
X-ALT-DESC;FMTTYPE=text/html:<p>Fortlaufende Bibelbetrachtung mit Gebet.</p> <a href="https://www.freiki
 rche-hd.de/index.php/events/Eventdetail/7206/-/bibelbetrachtung-und-gebet-l
 ivestream?tmpl=component">Dieser Event wurde importiert von: https://www.fr
 eikirche-hd.de/index.php/events/Eventdetail/7206/-/bibelbetrachtung-und-geb
 et-livestream?tmpl=component</a>DTSTAMP:20260420T055816
DTSTART;TZID=Europe/Berlin:20260121T180000
DTEND;TZID=Europe/Berlin:20260121T193000
SEQUENCE:0
TRANSP:OPAQUE
END:VEVENT
END:VCALENDAR