BEGIN:VCALENDAR
VERSION:2.0
PRODID:-//jEvents 2.0 for Joomla//EN
CALSCALE:GREGORIAN
METHOD:PUBLISH
BEGIN:VTIMEZONE
TZID:Europe/Berlin
BEGIN:STANDARD
DTSTART:20251026T020000
RDATE:20260329T030000
TZOFFSETFROM:+0200
TZOFFSETTO:+0100
TZNAME:Europe/Berlin CET
END:STANDARD
BEGIN:STANDARD
DTSTART:20261025T020000
RDATE:20270328T030000
TZOFFSETFROM:+0200
TZOFFSETTO:+0100
TZNAME:Europe/Berlin CET
END:STANDARD
BEGIN:STANDARD
DTSTART:20271031T020000
RDATE:20280326T030000
TZOFFSETFROM:+0200
TZOFFSETTO:+0100
TZNAME:Europe/Berlin CET
END:STANDARD
BEGIN:STANDARD
DTSTART:20281029T020000
RDATE:20290325T030000
TZOFFSETFROM:+0200
TZOFFSETTO:+0100
TZNAME:Europe/Berlin CET
END:STANDARD
BEGIN:DAYLIGHT
DTSTART:20250802T190000
RDATE:20251026T020000
TZOFFSETFROM:+0100
TZOFFSETTO:+0200
TZNAME:Europe/Berlin CEST
END:DAYLIGHT
BEGIN:DAYLIGHT
DTSTART:20260329T030000
RDATE:20261025T020000
TZOFFSETFROM:+0100
TZOFFSETTO:+0200
TZNAME:Europe/Berlin CEST
END:DAYLIGHT
BEGIN:DAYLIGHT
DTSTART:20270328T030000
RDATE:20271031T020000
TZOFFSETFROM:+0100
TZOFFSETTO:+0200
TZNAME:Europe/Berlin CEST
END:DAYLIGHT
BEGIN:DAYLIGHT
DTSTART:20280326T030000
RDATE:20281029T020000
TZOFFSETFROM:+0100
TZOFFSETTO:+0200
TZNAME:Europe/Berlin CEST
END:DAYLIGHT
END:VTIMEZONE
BEGIN:VEVENT
UID:5c789ca82f06bbddb479f89f9bb3f33b
CATEGORIES:Bibelkunde Online (BKO)
CREATED:20250102T162749
SUMMARY:Bibelkunde Online (BKO): 1. + 2. Chronik, Esra und Nehemia (in HD)
LOCATION: Untergeschoss in der Ev. Freikirche in Heidenoldendorf\, Adolf-Meier-Str. 
 36\, 32758 Detmold
URL;VALUE=URI:https://www.freikirche-hd.de/index.php/events/Eventdetail/7049/-/bibelkunde
 -online-bko-1-2-chronik-esra-und-nehemia-in-hd?tmpl=component
DESCRIPTION:<p>Bibelkunde Online (BKO) mit fortlaufende Bibelkunde (siehe Titel).</p> <
 a href="https://www.freikirche-hd.de/index.php/events/Eventdetail/7049/-/bi
 belkunde-online-bko-1-2-chronik-esra-und-nehemia-in-hd?tmpl=component">Dies
 er Event wurde importiert von: https://www.freikirche-hd.de/index.php/event
 s/Eventdetail/7049/-/bibelkunde-online-bko-1-2-chronik-esra-und-nehemia-in-
 hd?tmpl=component</a>DTSTAMP:20260420T115148
DTSTART;TZID=Europe/Berlin:20260803T190000
DTEND;TZID=Europe/Berlin:20260803T210000
SEQUENCE:0
TRANSP:OPAQUE
END:VEVENT
END:VCALENDAR