BEGIN:VCALENDAR
VERSION:2.0
PRODID:-//jEvents 2.0 for Joomla//EN
CALSCALE:GREGORIAN
METHOD:PUBLISH
BEGIN:VTIMEZONE
TZID:Europe/Berlin
BEGIN:STANDARD
DTSTART:20251026T020000
RDATE:20260329T030000
TZOFFSETFROM:+0200
TZOFFSETTO:+0100
TZNAME:Europe/Berlin CET
END:STANDARD
BEGIN:STANDARD
DTSTART:20261025T020000
RDATE:20270328T030000
TZOFFSETFROM:+0200
TZOFFSETTO:+0100
TZNAME:Europe/Berlin CET
END:STANDARD
BEGIN:STANDARD
DTSTART:20271031T020000
RDATE:20280326T030000
TZOFFSETFROM:+0200
TZOFFSETTO:+0100
TZNAME:Europe/Berlin CET
END:STANDARD
BEGIN:STANDARD
DTSTART:20281029T020000
RDATE:20290325T030000
TZOFFSETFROM:+0200
TZOFFSETTO:+0100
TZNAME:Europe/Berlin CET
END:STANDARD
BEGIN:DAYLIGHT
DTSTART:20250426T190000
RDATE:20251026T020000
TZOFFSETFROM:+0100
TZOFFSETTO:+0200
TZNAME:Europe/Berlin CEST
END:DAYLIGHT
BEGIN:DAYLIGHT
DTSTART:20260329T030000
RDATE:20261025T020000
TZOFFSETFROM:+0100
TZOFFSETTO:+0200
TZNAME:Europe/Berlin CEST
END:DAYLIGHT
BEGIN:DAYLIGHT
DTSTART:20270328T030000
RDATE:20271031T020000
TZOFFSETFROM:+0100
TZOFFSETTO:+0200
TZNAME:Europe/Berlin CEST
END:DAYLIGHT
BEGIN:DAYLIGHT
DTSTART:20280326T030000
RDATE:20281029T020000
TZOFFSETFROM:+0100
TZOFFSETTO:+0200
TZNAME:Europe/Berlin CEST
END:DAYLIGHT
END:VTIMEZONE
BEGIN:VEVENT
UID:5c789ca82f06bbddb479f89f9bb3f33b
CATEGORIES:Bibelkunde Online (BKO)
CREATED:20250102T162749
SUMMARY:Bibelkunde Online (BKO): Haggai, Sacharja und Maleachi (in HL)
LOCATION:HL
URL;VALUE=URI:https://www.freikirche-hd.de/index.php/events/Eventdetail/7045/-/bibelkunde
 -online-bko-haggai-sacharja-und-maleachi-in-hl?tmpl=component
DESCRIPTION:<p>Bibelkunde Online (BKO) mit fortlaufende Bibelkunde (siehe Titel).</p> <
 a href="https://www.freikirche-hd.de/index.php/events/Eventdetail/7045/-/bi
 belkunde-online-bko-haggai-sacharja-und-maleachi-in-hl?tmpl=component">Dies
 er Event wurde importiert von: https://www.freikirche-hd.de/index.php/event
 s/Eventdetail/7045/-/bibelkunde-online-bko-haggai-sacharja-und-maleachi-in-
 hl?tmpl=component</a>DTSTAMP:20260420T064600
DTSTART;TZID=Europe/Berlin:20260525T190000
DTEND;TZID=Europe/Berlin:20260525T210000
SEQUENCE:0
RRULE:FREQ=MONTHLY;UNTIL=20270201T000000Z;INTERVAL=1;BYDAY=-1MO,-5MO
EXDATE;TZID=Europe/Berlin:20250303T190000,20250602T190000,20250728T190000,20250825T190000,20251027T19
 0000,20251229T190000
TRANSP:OPAQUE
END:VEVENT
BEGIN:VEVENT
UID:5c789ca82f06bbddb479f89f9bb3f33b
CATEGORIES:Bibelkunde Online (BKO)
CREATED:20250102T162749
SUMMARY:Bibelkunde Online (BKO): 2.+3. Mose (in HL)
LOCATION: Café in der Ev. Freikirche in Hohenloh, Anne-Frank-Straße 1, 32756 Detmold
DESCRIPTION:<p>Bibelkunde Online (BKO) mit fortlaufende Bibelkunde (siehe Titel).</p>
URL;VALUE=URI:https://www.freikirche-hd.de/index.php/events/Eventdetail/7025/-/bibelkunde
 -online-bko-2-3-mose-in-hl?tmpl=component

DTSTAMP:20260420T064600
DTSTART;TZID=Europe/Berlin:20250224T190000
DTEND;TZID=Europe/Berlin:20250224T210000
RECURRENCE-ID;TZID=Europe/Berlin:20250224T190000
SEQUENCE:0
TRANSP:OPAQUE
END:VEVENT
BEGIN:VEVENT
UID:5c789ca82f06bbddb479f89f9bb3f33b
CATEGORIES:Bibelkunde Online (BKO)
CREATED:20250102T162749
SUMMARY:Bibelkunde Online (BKO): 4.+5. Mose (in HD)
LOCATION: Untergeschoss in der Ev. Freikirche in Heidenoldendorf, Adolf-Meier-Str. 3
 6, 32758 Detmold
DESCRIPTION:<p>Bibelkunde Online (BKO) mit fortlaufende Bibelkunde (siehe Titel).</p>
URL;VALUE=URI:https://www.freikirche-hd.de/index.php/events/Eventdetail/7027/-/bibelkunde
 -online-bko-4-5-mose-in-hd?tmpl=component

DTSTAMP:20260420T064600
DTSTART;TZID=Europe/Berlin:20250331T190000
DTEND;TZID=Europe/Berlin:20250331T210000
RECURRENCE-ID;TZID=Europe/Berlin:20250331T190000
SEQUENCE:0
TRANSP:OPAQUE
END:VEVENT
BEGIN:VEVENT
UID:5c789ca82f06bbddb479f89f9bb3f33b
CATEGORIES:Bibelkunde Online (BKO)
CREATED:20250102T162749
SUMMARY:Bibelkunde Online (BKO): Josua, Richter, Rut (in HL)
LOCATION: Café in der Ev. Freikirche in Hohenloh, Anne-Frank-Straße 1, 32756 Detmold
DESCRIPTION:<p>Bibelkunde Online (BKO) mit fortlaufende Bibelkunde (siehe Titel).</p>
URL;VALUE=URI:https://www.freikirche-hd.de/index.php/events/Eventdetail/7028/-/bibelkunde
 -online-bko-josua-richter-rut-in-hl?tmpl=component

DTSTAMP:20260420T064600
DTSTART;TZID=Europe/Berlin:20250428T190000
DTEND;TZID=Europe/Berlin:20250428T210000
RECURRENCE-ID;TZID=Europe/Berlin:20250428T190000
SEQUENCE:0
TRANSP:OPAQUE
END:VEVENT
BEGIN:VEVENT
UID:5c789ca82f06bbddb479f89f9bb3f33b
CATEGORIES:Bibelkunde Online (BKO)
CREATED:20250102T162749
SUMMARY:Bibelkunde Online (BKO): 1.+2. Samuel (in HD)
LOCATION: Untergeschoss in der Ev. Freikirche in Heidenoldendorf, Adolf-Meier-Str. 3
 6, 32758 Detmold
DESCRIPTION:<p>Bibelkunde Online (BKO) mit fortlaufende Bibelkunde (siehe Titel).</p>
URL;VALUE=URI:https://www.freikirche-hd.de/index.php/events/Eventdetail/7029/-/bibelkunde
 -online-bko-1-2-samuel-in-hd?tmpl=component

DTSTAMP:20260420T064600
DTSTART;TZID=Europe/Berlin:20250526T190000
DTEND;TZID=Europe/Berlin:20250526T210000
RECURRENCE-ID;TZID=Europe/Berlin:20250526T190000
SEQUENCE:0
TRANSP:OPAQUE
END:VEVENT
BEGIN:VEVENT
UID:5c789ca82f06bbddb479f89f9bb3f33b
CATEGORIES:Bibelkunde Online (BKO)
CREATED:20250102T162749
SUMMARY:Bibelkunde Online (BKO): 1.+2. Könige (in HL)
LOCATION: Café in der Ev. Freikirche in Hohenloh, Anne-Frank-Straße 1, 32756 Detmold
DESCRIPTION:<p>Bibelkunde Online (BKO) mit fortlaufende Bibelkunde (siehe Titel).</p>
URL;VALUE=URI:https://www.freikirche-hd.de/index.php/events/Eventdetail/7031/-/bibelkunde
 -online-bko-1-2-koenige-in-hl?tmpl=component

DTSTAMP:20260420T064600
DTSTART;TZID=Europe/Berlin:20250623T190000
DTEND;TZID=Europe/Berlin:20250623T210000
RECURRENCE-ID;TZID=Europe/Berlin:20250630T190000
SEQUENCE:0
TRANSP:OPAQUE
END:VEVENT
BEGIN:VEVENT
UID:5c789ca82f06bbddb479f89f9bb3f33b
CATEGORIES:Bibelkunde Online (BKO)
CREATED:20250102T162749
SUMMARY:Bibelkunde Online (BKO): Ester, Hiob (in HL)
LOCATION: in Evangelische Freikirche Hohenloh, Anne-Frank-Straße 1, 32756 Detmold
DESCRIPTION:<p>Bibelkunde Online (BKO) mit fortlaufende Bibelkunde (siehe Titel).</p>
URL;VALUE=URI:https://www.freikirche-hd.de/index.php/events/Eventdetail/7035/-/bibelkunde
 -online-bko-ester-hiob-in-hl?tmpl=component

DTSTAMP:20260420T064600
DTSTART;TZID=Europe/Berlin:20250922T190000
DTEND;TZID=Europe/Berlin:20250922T210000
RECURRENCE-ID;TZID=Europe/Berlin:20250929T190000
SEQUENCE:0
TRANSP:OPAQUE
END:VEVENT
BEGIN:VEVENT
UID:5c789ca82f06bbddb479f89f9bb3f33b
CATEGORIES:Bibelkunde Online (BKO)
CREATED:20250102T162749
SUMMARY:Bibelkunde Online (BKO): Psalmen, Sprüche (in HD)
LOCATION: Untergeschoss in der Ev. Freikirche in Heidenoldendorf, Adolf-Meier-Str. 3
 6, 32758 Detmold
DESCRIPTION:<p>Bibelkunde Online (BKO) mit fortlaufende Bibelkunde (siehe Titel).</p>
URL;VALUE=URI:https://www.freikirche-hd.de/index.php/events/Eventdetail/7037/-/bibelkunde
 -online-bko-psalmen-sprueche-in-hd?tmpl=component

DTSTAMP:20260420T064600
DTSTART;TZID=Europe/Berlin:20251124T190000
DTEND;TZID=Europe/Berlin:20251124T210000
RECURRENCE-ID;TZID=Europe/Berlin:20251124T190000
SEQUENCE:0
TRANSP:OPAQUE
END:VEVENT
BEGIN:VEVENT
UID:5c789ca82f06bbddb479f89f9bb3f33b
CATEGORIES:Bibelkunde Online (BKO)
CREATED:20250102T162749
SUMMARY:Bibelkunde Online (BKO): Prediger, Hohelied (in HL)
LOCATION: in Evangelische Freikirche Hohenloh, Anne-Frank-Straße 1, 32756 Detmold
DESCRIPTION:<p>Bibelkunde Online (BKO) mit fortlaufende Bibelkunde (siehe Titel).</p>
URL;VALUE=URI:https://www.freikirche-hd.de/index.php/events/Eventdetail/7038/-/bibelkunde
 -online-bko-prediger-hohelied-in-hl?tmpl=component

DTSTAMP:20260420T064600
DTSTART;TZID=Europe/Berlin:20251208T190000
DTEND;TZID=Europe/Berlin:20251208T210000
RECURRENCE-ID;TZID=Europe/Berlin:20251201T190000
SEQUENCE:0
TRANSP:OPAQUE
END:VEVENT
BEGIN:VEVENT
UID:5c789ca82f06bbddb479f89f9bb3f33b
CATEGORIES:Bibelkunde Online (BKO)
CREATED:20250102T162749
SUMMARY:Bibelkunde Online (BKO): Jesaja, Jeremia und Klagelider (in HD)
LOCATION: Untergeschoss in der Ev. Freikirche in Heidenoldendorf, Adolf-Meier-Str. 3
 6, 32758 Detmold
DESCRIPTION:<p>Bibelkunde Online (BKO) mit fortlaufende Bibelkunde (siehe Titel).</p>
URL;VALUE=URI:https://www.freikirche-hd.de/index.php/events/Eventdetail/7040/-/bibelkunde
 -online-bko-jesaja-jeremia-und-klagelider-in-hd?tmpl=component

DTSTAMP:20260420T064600
DTSTART;TZID=Europe/Berlin:20260126T190000
DTEND;TZID=Europe/Berlin:20260126T210000
RECURRENCE-ID;TZID=Europe/Berlin:20260126T190000
SEQUENCE:0
TRANSP:OPAQUE
END:VEVENT
BEGIN:VEVENT
UID:5c789ca82f06bbddb479f89f9bb3f33b
CATEGORIES:Bibelkunde Online (BKO)
CREATED:20250102T162749
SUMMARY:Bibelkunde Online (BKO): Hesekiel und Daniel (in HL)
LOCATION:HL
DESCRIPTION:<p>Bibelkunde Online (BKO) mit fortlaufende Bibelkunde (siehe Titel).</p>
URL;VALUE=URI:https://www.freikirche-hd.de/index.php/events/Eventdetail/7041/-/bibelkunde
 -online-bko-hesekiel-und-daniel-in-hl?tmpl=component

DTSTAMP:20260420T064600
DTSTART;TZID=Europe/Berlin:20260223T190000
DTEND;TZID=Europe/Berlin:20260223T210000
RECURRENCE-ID;TZID=Europe/Berlin:20260223T190000
SEQUENCE:0
TRANSP:OPAQUE
END:VEVENT
BEGIN:VEVENT
UID:5c789ca82f06bbddb479f89f9bb3f33b
CATEGORIES:Bibelkunde Online (BKO)
CREATED:20250102T162749
SUMMARY:Bibelkunde Online (BKO): Hosea, Joel und Amos (in HD)
LOCATION: Untergeschoss in der Ev. Freikirche in Heidenoldendorf, Adolf-Meier-Str. 3
 6, 32758 Detmold
DESCRIPTION:<p>Bibelkunde Online (BKO) mit fortlaufende Bibelkunde (siehe Titel).</p>
URL;VALUE=URI:https://www.freikirche-hd.de/index.php/events/Eventdetail/7042/-/bibelkunde
 -online-bko-hosea-joel-und-amos-in-hd?tmpl=component

DTSTAMP:20260420T064600
DTSTART;TZID=Europe/Berlin:20260309T190000
DTEND;TZID=Europe/Berlin:20260309T210000
RECURRENCE-ID;TZID=Europe/Berlin:20260302T190000
SEQUENCE:0
TRANSP:OPAQUE
END:VEVENT
BEGIN:VEVENT
UID:5c789ca82f06bbddb479f89f9bb3f33b
CATEGORIES:Bibelkunde Online (BKO)
CREATED:20250102T162749
SUMMARY:Bibelkunde Online (BKO): Obadja, Jona und Micha (in HL)
LOCATION:HL
DESCRIPTION:<p>Bibelkunde Online (BKO) mit fortlaufende Bibelkunde (siehe Titel).</p>
URL;VALUE=URI:https://www.freikirche-hd.de/index.php/events/Eventdetail/7043/-/bibelkunde
 -online-bko-obadja-jona-und-micha-in-hl?tmpl=component

DTSTAMP:20260420T064600
DTSTART;TZID=Europe/Berlin:20260323T190000
DTEND;TZID=Europe/Berlin:20260323T210000
RECURRENCE-ID;TZID=Europe/Berlin:20260330T190000
SEQUENCE:0
TRANSP:OPAQUE
END:VEVENT
BEGIN:VEVENT
UID:5c789ca82f06bbddb479f89f9bb3f33b
CATEGORIES:Bibelkunde Online (BKO)
CREATED:20250102T162749
SUMMARY:Bibelkunde Online (BKO): Nahum, Habakuk und Zephanja (in HD)
LOCATION: Untergeschoss in der Ev. Freikirche in Heidenoldendorf, Adolf-Meier-Str. 3
 6, 32758 Detmold
DESCRIPTION:<p>Bibelkunde Online (BKO) mit fortlaufende Bibelkunde (siehe Titel).</p>
URL;VALUE=URI:https://www.freikirche-hd.de/index.php/events/Eventdetail/7044/-/bibelkunde
 -online-bko-nahum-habakuk-und-zephanja-in-hd?tmpl=component

DTSTAMP:20260420T064600
DTSTART;TZID=Europe/Berlin:20260413T190000
DTEND;TZID=Europe/Berlin:20260413T210000
RECURRENCE-ID;TZID=Europe/Berlin:20260427T190000
SEQUENCE:0
TRANSP:OPAQUE
END:VEVENT
BEGIN:VEVENT
UID:5c789ca82f06bbddb479f89f9bb3f33b
CATEGORIES:Bibelkunde Online (BKO)
CREATED:20250102T162749
SUMMARY:Bibelkunde Online (BKO): Haggai, Sacharja und Maleachi (in HL)
LOCATION:HL
DESCRIPTION:<p>Bibelkunde Online (BKO) mit fortlaufende Bibelkunde (siehe Titel).</p>
URL;VALUE=URI:https://www.freikirche-hd.de/index.php/events/Eventdetail/7045/-/bibelkunde
 -online-bko-haggai-sacharja-und-maleachi-in-hl?tmpl=component

DTSTAMP:20260420T064600
DTSTART;TZID=Europe/Berlin:20260427T190000
DTEND;TZID=Europe/Berlin:20260427T210000
RECURRENCE-ID;TZID=Europe/Berlin:20260525T190000
SEQUENCE:0
TRANSP:OPAQUE
END:VEVENT
END:VCALENDAR