BEGIN:VCALENDAR
VERSION:2.0
PRODID:-//jEvents 2.0 for Joomla//EN
CALSCALE:GREGORIAN
METHOD:PUBLISH
BEGIN:VTIMEZONE
TZID:Europe/Berlin
BEGIN:STANDARD
DTSTART:20251026T020000
RDATE:20260329T030000
TZOFFSETFROM:+0200
TZOFFSETTO:+0100
TZNAME:Europe/Berlin CET
END:STANDARD
BEGIN:STANDARD
DTSTART:20261025T020000
RDATE:20270328T030000
TZOFFSETFROM:+0200
TZOFFSETTO:+0100
TZNAME:Europe/Berlin CET
END:STANDARD
BEGIN:STANDARD
DTSTART:20271031T020000
RDATE:20280326T030000
TZOFFSETFROM:+0200
TZOFFSETTO:+0100
TZNAME:Europe/Berlin CET
END:STANDARD
BEGIN:STANDARD
DTSTART:20281029T020000
RDATE:20290325T030000
TZOFFSETFROM:+0200
TZOFFSETTO:+0100
TZNAME:Europe/Berlin CET
END:STANDARD
BEGIN:DAYLIGHT
DTSTART:20250405T110000
RDATE:20251026T020000
TZOFFSETFROM:+0100
TZOFFSETTO:+0200
TZNAME:Europe/Berlin CEST
END:DAYLIGHT
BEGIN:DAYLIGHT
DTSTART:20260329T030000
RDATE:20261025T020000
TZOFFSETFROM:+0100
TZOFFSETTO:+0200
TZNAME:Europe/Berlin CEST
END:DAYLIGHT
BEGIN:DAYLIGHT
DTSTART:20270328T030000
RDATE:20271031T020000
TZOFFSETFROM:+0100
TZOFFSETTO:+0200
TZNAME:Europe/Berlin CEST
END:DAYLIGHT
BEGIN:DAYLIGHT
DTSTART:20280326T030000
RDATE:20281029T020000
TZOFFSETFROM:+0100
TZOFFSETTO:+0200
TZNAME:Europe/Berlin CEST
END:DAYLIGHT
END:VTIMEZONE
BEGIN:VEVENT
UID:7bda971f6af5c5935f72118d50056172
CATEGORIES:Gottesdienste und Veranstaltungen
CREATED:20260322T231235
SUMMARY:Gottesdienst an Ostermontag [LIVEstream]
LOCATION:im Saal der Ev. Freikirche in Heidenoldendorf\, Adolf-Meier-Str. 36\, 32758
  Detmold
URL;VALUE=URI:https://www.freikirche-hd.de/index.php/events/Eventdetail/7714/-/gottesdien
 st-an-ostermontag-livestream?tmpl=component
DESCRIPTION:<p><strong>OSTERMONTAG</strong>, gemeinsames Frühstück (ab 09:00 Uhr) und G
 ottesdienst (Vorprogramm ab 10:30 Uhr; um 11:00 Uhr)</p> <a href="https://w
 ww.freikirche-hd.de/index.php/events/Eventdetail/7714/-/gottesdienst-an-ost
 ermontag-livestream?tmpl=component">Dieser Event wurde importiert von: http
 s://www.freikirche-hd.de/index.php/events/Eventdetail/7714/-/gottesdienst-a
 n-ostermontag-livestream?tmpl=component</a>DTSTAMP:20260419T211731
DTSTART;TZID=Europe/Berlin:20260406T110000
DTEND;TZID=Europe/Berlin:20260406T120000
SEQUENCE:0
TRANSP:OPAQUE
END:VEVENT
END:VCALENDAR