BEGIN:VCALENDAR
VERSION:2.0
PRODID:-//jEvents 2.0 for Joomla//EN
CALSCALE:GREGORIAN
METHOD:PUBLISH
BEGIN:VTIMEZONE
TZID:Europe/Berlin
BEGIN:STANDARD
DTSTART:20251026T020000
RDATE:20260329T030000
TZOFFSETFROM:+0200
TZOFFSETTO:+0100
TZNAME:Europe/Berlin CET
END:STANDARD
BEGIN:STANDARD
DTSTART:20261025T020000
RDATE:20270328T030000
TZOFFSETFROM:+0200
TZOFFSETTO:+0100
TZNAME:Europe/Berlin CET
END:STANDARD
BEGIN:STANDARD
DTSTART:20271031T020000
RDATE:20280326T030000
TZOFFSETFROM:+0200
TZOFFSETTO:+0100
TZNAME:Europe/Berlin CET
END:STANDARD
BEGIN:STANDARD
DTSTART:20281029T020000
RDATE:20290325T030000
TZOFFSETFROM:+0200
TZOFFSETTO:+0100
TZNAME:Europe/Berlin CET
END:STANDARD
BEGIN:DAYLIGHT
DTSTART:20250416T000000
RDATE:20251026T020000
TZOFFSETFROM:+0100
TZOFFSETTO:+0200
TZNAME:Europe/Berlin CEST
END:DAYLIGHT
BEGIN:DAYLIGHT
DTSTART:20260329T030000
RDATE:20261025T020000
TZOFFSETFROM:+0100
TZOFFSETTO:+0200
TZNAME:Europe/Berlin CEST
END:DAYLIGHT
BEGIN:DAYLIGHT
DTSTART:20270328T030000
RDATE:20271031T020000
TZOFFSETFROM:+0100
TZOFFSETTO:+0200
TZNAME:Europe/Berlin CEST
END:DAYLIGHT
BEGIN:DAYLIGHT
DTSTART:20280326T030000
RDATE:20281029T020000
TZOFFSETFROM:+0100
TZOFFSETTO:+0200
TZNAME:Europe/Berlin CEST
END:DAYLIGHT
END:VTIMEZONE
BEGIN:VEVENT
UID:2f0c4b7ccaf084a6b3e9db0c303a9132
CATEGORIES:Frauen
CREATED:20250902T211206
SUMMARY:FRAUENfreizeit (17. - 19.04.26) im Freizeitheim
LOCATION:Freizeitheim
URL;VALUE=URI:https://www.freikirche-hd.de/index.php/events/Eventdetail/7699/-/frauenfrei
 zeit-17-19-04-26-im-freizeitheim?tmpl=component
DESCRIPTION:FRAUENfreizeit\n Dieser Event wurde importiert von: https://www.freikirche-
 hd.de/index.php/events/Eventdetail/7699/-/frauenfreizeit-17-19-04-26-im-fre
 izeitheim?tmpl=component
X-ALT-DESC;FMTTYPE=text/html:<p>FRAUENfreizeit</p> <a href="https://www.freikirche-hd.de/index.php/event
 s/Eventdetail/7699/-/frauenfreizeit-17-19-04-26-im-freizeitheim?tmpl=compon
 ent">Dieser Event wurde importiert von: https://www.freikirche-hd.de/index.
 php/events/Eventdetail/7699/-/frauenfreizeit-17-19-04-26-im-freizeitheim?tm
 pl=component</a>DTSTAMP:20260420T120334
DTSTART;TZID=Europe/Berlin;VALUE=DATE:20260417
DTEND;TZID=Europe/Berlin;VALUE=DATE:20260420
SEQUENCE:0
TRANSP:OPAQUE
END:VEVENT
END:VCALENDAR