BEGIN:VCALENDAR
VERSION:2.0
PRODID:-//jEvents 2.0 for Joomla//EN
CALSCALE:GREGORIAN
METHOD:PUBLISH
BEGIN:VTIMEZONE
TZID:Europe/Berlin
BEGIN:STANDARD
DTSTART:20241027T020000
RDATE:20250330T030000
TZOFFSETFROM:+0200
TZOFFSETTO:+0100
TZNAME:Europe/Berlin CET
END:STANDARD
BEGIN:STANDARD
DTSTART:20251026T020000
RDATE:20260329T030000
TZOFFSETFROM:+0200
TZOFFSETTO:+0100
TZNAME:Europe/Berlin CET
END:STANDARD
BEGIN:STANDARD
DTSTART:20261025T020000
RDATE:20270328T030000
TZOFFSETFROM:+0200
TZOFFSETTO:+0100
TZNAME:Europe/Berlin CET
END:STANDARD
BEGIN:STANDARD
DTSTART:20271031T020000
RDATE:20280326T030000
TZOFFSETFROM:+0200
TZOFFSETTO:+0100
TZNAME:Europe/Berlin CET
END:STANDARD
BEGIN:STANDARD
DTSTART:20281029T020000
RDATE:20290325T030000
TZOFFSETFROM:+0200
TZOFFSETTO:+0100
TZNAME:Europe/Berlin CET
END:STANDARD
BEGIN:DAYLIGHT
DTSTART:20240904T170000
RDATE:20241027T020000
TZOFFSETFROM:+0100
TZOFFSETTO:+0200
TZNAME:Europe/Berlin CEST
END:DAYLIGHT
BEGIN:DAYLIGHT
DTSTART:20250330T030000
RDATE:20251026T020000
TZOFFSETFROM:+0100
TZOFFSETTO:+0200
TZNAME:Europe/Berlin CEST
END:DAYLIGHT
BEGIN:DAYLIGHT
DTSTART:20260329T030000
RDATE:20261025T020000
TZOFFSETFROM:+0100
TZOFFSETTO:+0200
TZNAME:Europe/Berlin CEST
END:DAYLIGHT
BEGIN:DAYLIGHT
DTSTART:20270328T030000
RDATE:20271031T020000
TZOFFSETFROM:+0100
TZOFFSETTO:+0200
TZNAME:Europe/Berlin CEST
END:DAYLIGHT
BEGIN:DAYLIGHT
DTSTART:20280326T030000
RDATE:20281029T020000
TZOFFSETFROM:+0100
TZOFFSETTO:+0200
TZNAME:Europe/Berlin CEST
END:DAYLIGHT
END:VTIMEZONE
BEGIN:VEVENT
UID:68c0c95c7877b5176351137f258e3f67
CATEGORIES:Kinderstunde
CREATED:19700101T010000
SUMMARY:Kinderstunde 
LOCATION:Ev. Freikirche in Heidenoldendorf\, Adolf-Meier-Str. 36\, 32758 Detmold
URL;VALUE=URI:https://www.freikirche-hd.de/index.php/events/Eventdetail/7506/-/kinderstun
 de?tmpl=component
DESCRIPTION:Wöchentliche Kinderstunden nach Jahrgängen wie folgt (für 2025/26):\nWähren
 d der Schulferien finden keine Kinderstunden statt.\n2021 (Raum 3 im Unterg
 eschoss) - Mitarbeiter: Simon D., Michael B., Regina P., Beate K., Chiara B
 .\n--&gt; Kind noch nicht angemeldet? Hier kannst du dein Kind (Jahrgang 20
 21) anmelden!\n2020 (Raum 1 im Untergeschoss) - Mitarbeiter: Olga T., Sarah
  P., Johanna S., Melissa M., Philipp N.\n2019 (Raum 4 im Untergeschoss) - M
 itarbeiter: Anna I., Melanie K., Tim T., Sarah Lynn S., Luisa Marie I., Ann
 e K.\n2018 (Jungscharraum im Obergeschoss) - Mitarbeiter: Nelli L., Cindy S
 ., Malena G., Lukas W.\n2017 (Raum 5 im Untergeschoss) - Mitarbeiter: Benni
  T., Lara M., Jessica G., Andrea R.\n2016 (Jungendraum im Obergeschoss) - M
 itarbeiter: Karolin T., Melanie D., Joel J., Jana N., Isabell I.\nStand: 24
 .08.2025 - Änderungen vorbehalten.\n Dieser Event wurde importiert von: htt
 ps://www.freikirche-hd.de/index.php/events/Eventdetail/7506/-/kinderstunde?
 tmpl=component (https://www.freikirche-hd.de/index.php/events/Eventdetail/7
 506/-/kinderstunde?tmpl=component)
X-ALT-DESC;FMTTYPE=text/html:<p>Wöchentliche Kinderstunden nach Jahrgängen wie folgt (für 2025/26):</p><
 hr /><p>Während der Schulferien finden keine Kinderstunden statt.</p><p><st
 rong>2021 </strong>(Raum 3 im Untergeschoss) - Mitarbeiter: Simon D., Micha
 el B., Regina P., Beate K., Chiara B.</p><p>--&gt; Kind noch nicht angemeld
 et? <a href="https://www.freikirche-hd.de/index.php/kinderstunde">Hier kann
 st du dein Kind (Jahrgang 2021) anmelden!</a></p><p><strong>2020</strong> (
 Raum 1 im Untergeschoss) - Mitarbeiter: Olga T., Sarah P., Johanna S., Meli
 ssa M., Philipp N.</p><p><strong>2019</strong> (Raum 4 im Untergeschoss) - 
 Mitarbeiter: Anna I., Melanie K., Tim T., Sarah Lynn S., Luisa Marie I., An
 ne K.</p><p><strong>2018</strong> (Jungscharraum im Obergeschoss) - Mitarbe
 iter: Nelli L., Cindy S., Malena G., Lukas W.</p><p><strong>2017</strong> (
 Raum 5 im Untergeschoss) - Mitarbeiter: Benni T., Lara M., Jessica G., Andr
 ea R.</p><p><strong>2016</strong> (Jungendraum im Obergeschoss) - Mitarbeit
 er: Karolin T., Melanie D., Joel J., Jana N., Isabell I.</p><hr /><p>Stand:
  24.08.2025 - Änderungen vorbehalten.</p> <a href="https://www.freikirche-h
 d.de/index.php/events/Eventdetail/7506/-/kinderstunde?tmpl=component">Diese
 r Event wurde importiert von: https://www.freikirche-hd.de/index.php/events
 /Eventdetail/7506/-/kinderstunde?tmpl=component</a>DTSTAMP:20260420T041359
DTSTART;TZID=Europe/Berlin:20250905T170000
DTEND;TZID=Europe/Berlin:20250905T181500
SEQUENCE:0
RRULE:FREQ=WEEKLY;COUNT=47;INTERVAL=1;BYDAY=FR
EXDATE;TZID=Europe/Berlin:20251017T170000,20251024T170000,20251003T170000,20251226T170000,20260102T17
 0000,20260109T170000,20260403T170000,20260410T170000,20260501T170000
TRANSP:OPAQUE
END:VEVENT
END:VCALENDAR