BEGIN:VCALENDAR
VERSION:2.0
PRODID:-//jEvents 2.0 for Joomla//EN
CALSCALE:GREGORIAN
METHOD:PUBLISH
BEGIN:VTIMEZONE
TZID:Europe/Berlin
BEGIN:STANDARD
DTSTART:20241027T020000
RDATE:20250330T030000
TZOFFSETFROM:+0200
TZOFFSETTO:+0100
TZNAME:Europe/Berlin CET
END:STANDARD
BEGIN:STANDARD
DTSTART:20251026T020000
RDATE:20260329T030000
TZOFFSETFROM:+0200
TZOFFSETTO:+0100
TZNAME:Europe/Berlin CET
END:STANDARD
BEGIN:STANDARD
DTSTART:20261025T020000
RDATE:20270328T030000
TZOFFSETFROM:+0200
TZOFFSETTO:+0100
TZNAME:Europe/Berlin CET
END:STANDARD
BEGIN:STANDARD
DTSTART:20271031T020000
RDATE:20280326T030000
TZOFFSETFROM:+0200
TZOFFSETTO:+0100
TZNAME:Europe/Berlin CET
END:STANDARD
BEGIN:STANDARD
DTSTART:20281029T020000
RDATE:20290325T030000
TZOFFSETFROM:+0200
TZOFFSETTO:+0100
TZNAME:Europe/Berlin CET
END:STANDARD
BEGIN:DAYLIGHT
DTSTART:20240813T190000
RDATE:20241027T020000
TZOFFSETFROM:+0100
TZOFFSETTO:+0200
TZNAME:Europe/Berlin CEST
END:DAYLIGHT
BEGIN:DAYLIGHT
DTSTART:20250330T030000
RDATE:20251026T020000
TZOFFSETFROM:+0100
TZOFFSETTO:+0200
TZNAME:Europe/Berlin CEST
END:DAYLIGHT
BEGIN:DAYLIGHT
DTSTART:20260329T030000
RDATE:20261025T020000
TZOFFSETFROM:+0100
TZOFFSETTO:+0200
TZNAME:Europe/Berlin CEST
END:DAYLIGHT
BEGIN:DAYLIGHT
DTSTART:20270328T030000
RDATE:20271031T020000
TZOFFSETFROM:+0100
TZOFFSETTO:+0200
TZNAME:Europe/Berlin CEST
END:DAYLIGHT
BEGIN:DAYLIGHT
DTSTART:20280326T030000
RDATE:20281029T020000
TZOFFSETFROM:+0100
TZOFFSETTO:+0200
TZNAME:Europe/Berlin CEST
END:DAYLIGHT
END:VTIMEZONE
BEGIN:VEVENT
UID:c97e824406e7cb140077c60c58425434
CATEGORIES:Gemeindechor
CREATED:19700101T010000
SUMMARY:Gemeindechor
LOCATION:Ev. Freikirche in Heidenoldendorf\, Adolf-Meier-Str. 36\, 32758 Detmold
URL;VALUE=URI:https://www.freikirche-hd.de/index.php/events/Eventdetail/7396/-/gemeindech
 or?tmpl=component
DESCRIPTION:Probe des Gemeindechor. Mehr Informationen hier (index.php/gemeindechor).\n
  Dieser Event wurde importiert von: https://www.freikirche-hd.de/index.php/
 events/Eventdetail/7396/-/gemeindechor?tmpl=component (https://www.freikirc
 he-hd.de/index.php/events/Eventdetail/7396/-/gemeindechor?tmpl=component)
X-ALT-DESC;FMTTYPE=text/html:<p>Probe des Gemeindechor. Mehr Informationen <a href="https://www.freikirc
 he-hd.de/index.php/gemeindechor">hier</a>.</p> <a href="https://www.freikir
 che-hd.de/index.php/events/Eventdetail/7396/-/gemeindechor?tmpl=component">
 Dieser Event wurde importiert von: https://www.freikirche-hd.de/index.php/e
 vents/Eventdetail/7396/-/gemeindechor?tmpl=component</a>DTSTAMP:20260420T041310
DTSTART;TZID=Europe/Berlin:20250814T190000
DTEND;TZID=Europe/Berlin:20250814T213000
SEQUENCE:0
RRULE:FREQ=WEEKLY;COUNT=52;INTERVAL=1;BYDAY=TH
EXDATE;TZID=Europe/Berlin:20250821T190000,20251225T190000,20260101T190000,20260108T190000,20260402T19
 0000
TRANSP:OPAQUE
END:VEVENT
END:VCALENDAR