BEGIN:VCALENDAR
VERSION:2.0
PRODID:-//jEvents 2.0 for Joomla//EN
CALSCALE:GREGORIAN
METHOD:PUBLISH
BEGIN:VTIMEZONE
TZID:Europe/Berlin
BEGIN:STANDARD
DTSTART:20241027T020000
RDATE:20250330T030000
TZOFFSETFROM:+0200
TZOFFSETTO:+0100
TZNAME:Europe/Berlin CET
END:STANDARD
BEGIN:STANDARD
DTSTART:20251026T020000
RDATE:20260329T030000
TZOFFSETFROM:+0200
TZOFFSETTO:+0100
TZNAME:Europe/Berlin CET
END:STANDARD
BEGIN:STANDARD
DTSTART:20261025T020000
RDATE:20270328T030000
TZOFFSETFROM:+0200
TZOFFSETTO:+0100
TZNAME:Europe/Berlin CET
END:STANDARD
BEGIN:STANDARD
DTSTART:20271031T020000
RDATE:20280326T030000
TZOFFSETFROM:+0200
TZOFFSETTO:+0100
TZNAME:Europe/Berlin CET
END:STANDARD
BEGIN:STANDARD
DTSTART:20281029T020000
RDATE:20290325T030000
TZOFFSETFROM:+0200
TZOFFSETTO:+0100
TZNAME:Europe/Berlin CET
END:STANDARD
BEGIN:DAYLIGHT
DTSTART:20240714T200000
RDATE:20241027T020000
TZOFFSETFROM:+0100
TZOFFSETTO:+0200
TZNAME:Europe/Berlin CEST
END:DAYLIGHT
BEGIN:DAYLIGHT
DTSTART:20250330T030000
RDATE:20251026T020000
TZOFFSETFROM:+0100
TZOFFSETTO:+0200
TZNAME:Europe/Berlin CEST
END:DAYLIGHT
BEGIN:DAYLIGHT
DTSTART:20260329T030000
RDATE:20261025T020000
TZOFFSETFROM:+0100
TZOFFSETTO:+0200
TZNAME:Europe/Berlin CEST
END:DAYLIGHT
BEGIN:DAYLIGHT
DTSTART:20270328T030000
RDATE:20271031T020000
TZOFFSETFROM:+0100
TZOFFSETTO:+0200
TZNAME:Europe/Berlin CEST
END:DAYLIGHT
BEGIN:DAYLIGHT
DTSTART:20280326T030000
RDATE:20281029T020000
TZOFFSETFROM:+0100
TZOFFSETTO:+0200
TZNAME:Europe/Berlin CEST
END:DAYLIGHT
END:VTIMEZONE
BEGIN:VEVENT
UID:23fc0666694065c44fb9a3a7fa76f10e
CATEGORIES:Bläserchor
CREATED:19700101T010000
SUMMARY:Bläserchor
LOCATION:Ev. Freikirche in Heidenoldendorf\, Adolf-Meier-Str. 36\, 32758 Detmold
URL;VALUE=URI:https://www.freikirche-hd.de/index.php/events/Eventdetail/7077/-/blaesercho
 r?tmpl=component
DESCRIPTION:Probe des Bläserchor. Mehr Informationen hier (index.php/blaeserchor).\n Di
 eser Event wurde importiert von: https://www.freikirche-hd.de/index.php/eve
 nts/Eventdetail/7077/-/blaeserchor?tmpl=component (https://www.freikirche-h
 d.de/index.php/events/Eventdetail/7077/-/blaeserchor?tmpl=component)
X-ALT-DESC;FMTTYPE=text/html:<p>Probe des Bläserchor. Mehr Informationen <a href="https://www.freikirche
 -hd.de/index.php/blaeserchor">hier</a>.</p> <a href="https://www.freikirche
 -hd.de/index.php/events/Eventdetail/7077/-/blaeserchor?tmpl=component">Dies
 er Event wurde importiert von: https://www.freikirche-hd.de/index.php/event
 s/Eventdetail/7077/-/blaeserchor?tmpl=component</a>DTSTAMP:20260420T022850
DTSTART;TZID=Europe/Berlin:20250715T200000
DTEND;TZID=Europe/Berlin:20250715T213000
SEQUENCE:0
RRULE:FREQ=WEEKLY;COUNT=51;INTERVAL=1;BYDAY=TU
EXDATE;TZID=Europe/Berlin:20251223T200000,20251230T200000,20260106T200000,20260407T200000
TRANSP:OPAQUE
END:VEVENT
END:VCALENDAR